BEGIN:VCALENDAR
VERSION:2.0
PRODID:-//Coates Parish Council//Meeting Calendar//EN
CALSCALE:GREGORIAN
METHOD:PUBLISH
BEGIN:VEVENT
UID:71424-20260213@coatesparish.gov.uk
DTSTAMP:20260421T114850Z
DTSTART;VALUE=DATE:20260213
DTEND;VALUE=DATE:20260214
SUMMARY:Council Meeting 13 February 2026
DESCRIPTION:Full Council Meeting\nView details: https://coatesparish.gov.uk/meetings/council-meeting-13-february-2026/
URL:https://coatesparish.gov.uk/meetings/council-meeting-13-february-2026/
END:VEVENT
END:VCALENDAR
